BEGIN:VCALENDAR
VERSION:2.0
PRODID:-//Applied Shamanism - ECPv5.4.0//NONSGML v1.0//EN
CALSCALE:GREGORIAN
METHOD:PUBLISH
X-WR-CALNAME:Applied Shamanism
X-ORIGINAL-URL:https://www.appliedshamanism.org
X-WR-CALDESC:Events for Applied Shamanism
BEGIN:VTIMEZONE
TZID:America/Los_Angeles
BEGIN:DAYLIGHT
TZOFFSETFROM:-0800
TZOFFSETTO:-0700
TZNAME:PDT
DTSTART:20210314T100000
END:DAYLIGHT
BEGIN:STANDARD
TZOFFSETFROM:-0700
TZOFFSETTO:-0800
TZNAME:PST
DTSTART:20211107T090000
END:STANDARD
END:VTIMEZONE
BEGIN:VEVENT
DTSTART;TZID=America/Los_Angeles:20211106T100000
DTEND;TZID=America/Los_Angeles:20211107T170000
DTSTAMP:20260420T085042
CREATED:20201216T183109Z
LAST-MODIFIED:20201216T183135Z
UID:2720-1636192800-1636304400@www.appliedshamanism.org
SUMMARY:Soul Retrieval & the Guiding of Souls
DESCRIPTION:Learn how to recognize and resolve soul loss and how to guide souls in the Middle World. \nRegistration and additional information via sacredstream.org.
URL:https://www.appliedshamanism.org/event/soul-retrieval-the-guiding-of-souls-november-2021/
LOCATION:Sacred Stream Center\, 2149 Byron Street\, Berkeley\, CA\, 94702\, United States
ORGANIZER;CN="Sacred%20Stream":MAILTO:info@sacredstream.org
END:VEVENT
END:VCALENDAR