BEGIN:VCALENDAR
VERSION:2.0
PRODID:-//Applied Shamanism - ECPv5.4.0//NONSGML v1.0//EN
CALSCALE:GREGORIAN
METHOD:PUBLISH
X-WR-CALNAME:Applied Shamanism
X-ORIGINAL-URL:https://www.appliedshamanism.org
X-WR-CALDESC:Events for Applied Shamanism
BEGIN:VTIMEZONE
TZID:America/Los_Angeles
BEGIN:DAYLIGHT
TZOFFSETFROM:-0800
TZOFFSETTO:-0700
TZNAME:PDT
DTSTART:20250309T100000
END:DAYLIGHT
BEGIN:STANDARD
TZOFFSETFROM:-0700
TZOFFSETTO:-0800
TZNAME:PST
DTSTART:20251102T090000
END:STANDARD
END:VTIMEZONE
BEGIN:VEVENT
DTSTART;TZID=America/Los_Angeles:20250610T173000
DTEND;TZID=America/Los_Angeles:20250610T190000
DTSTAMP:20260423T073600
CREATED:20250408T223456Z
LAST-MODIFIED:20250509T204329Z
UID:4415-1749576600-1749582000@www.appliedshamanism.org
SUMMARY:The Shamanic Journey (Hybrid)
DESCRIPTION:The Shamanic Journey is a method of accessing inner wisdom through a meditative state and is derived from a practice done by the healers and shamans of indigenous shamanic cultures for thousands of years. It’s also a great tool for anyone interested in doing deeper self-inquiry and healing. The shamanic journey offers a unique pathway to restore balance\, alleviate stress\, and awaken your true potential. Discover a nurturing approach to wellness that taps into the wisdom of the Earth and the spirit world\, providing a deeply personal and rejuvenating experience that can lead to lasting harmony and vitality. \nClass Meetings\nWednesday\, May 28\, at 5:30 pm – 7:00 pm Pacific Time (8:30 pm – 10:00 pm Eastern Time)\nTuesday\, June 10\, at 5:30 pm – 7:00 pm Pacific Time (8:30 pm – 10:00 pm Eastern Time) \nRegistration and additional information via sacredstream.org
URL:https://www.appliedshamanism.org/event/the-shamanic-journey-hybrid-may-2025/2025-06-10/
LOCATION:Distance Learning\, Connect from anywhere!
ORGANIZER;CN="Sacred%20Stream":MAILTO:info@sacredstream.org
END:VEVENT
END:VCALENDAR