BEGIN:VCALENDAR
VERSION:2.0
PRODID:-//Applied Shamanism - ECPv5.4.0//NONSGML v1.0//EN
CALSCALE:GREGORIAN
METHOD:PUBLISH
X-WR-CALNAME:Applied Shamanism
X-ORIGINAL-URL:https://www.appliedshamanism.org
X-WR-CALDESC:Events for Applied Shamanism
BEGIN:VTIMEZONE
TZID:America/Los_Angeles
BEGIN:DAYLIGHT
TZOFFSETFROM:-0800
TZOFFSETTO:-0700
TZNAME:PDT
DTSTART:20250309T100000
END:DAYLIGHT
BEGIN:STANDARD
TZOFFSETFROM:-0700
TZOFFSETTO:-0800
TZNAME:PST
DTSTART:20251102T090000
END:STANDARD
END:VTIMEZONE
BEGIN:VEVENT
DTSTART;TZID=America/Los_Angeles:20250430T170000
DTEND;TZID=America/Los_Angeles:20250430T193000
DTSTAMP:20260423T233209
CREATED:20250221T161801Z
LAST-MODIFIED:20250221T161801Z
UID:4371-1746032400-1746041400@www.appliedshamanism.org
SUMMARY:The Path of Service (Hybrid)
DESCRIPTION:In this workshop\, students do the inner work fundamental to being able to stay in balance while serving and caring for others effectively. The workshop enables them to move forward on their path of service with greater clarity\, purpose\, and joy. \nWednesdays\, April 2\, 16\, & 30\, 2025\n5:00 pm – 7:30 pm Pacific (8:00 pm – 10:30 pm Eastern) \nRegistration and additional information via sacredstream.org
URL:https://www.appliedshamanism.org/event/the-path-of-service-hybrid-april-2025/2025-04-30/
LOCATION:Distance Learning\, Connect from anywhere!
ORGANIZER;CN="Sacred%20Stream":MAILTO:info@sacredstream.org
END:VEVENT
END:VCALENDAR