BEGIN:VCALENDAR
VERSION:2.0
PRODID:-//Applied Shamanism - ECPv5.4.0//NONSGML v1.0//EN
CALSCALE:GREGORIAN
METHOD:PUBLISH
X-WR-CALNAME:Applied Shamanism
X-ORIGINAL-URL:https://www.appliedshamanism.org
X-WR-CALDESC:Events for Applied Shamanism
BEGIN:VTIMEZONE
TZID:UTC
BEGIN:STANDARD
TZOFFSETFROM:+0000
TZOFFSETTO:+0000
TZNAME:UTC
DTSTART:20180101T000000
END:STANDARD
END:VTIMEZONE
BEGIN:VEVENT
DTSTART;TZID=UTC:20181103T100000
DTEND;TZID=UTC:20181104T170000
DTSTAMP:20260420T055832
CREATED:20180908T124430Z
LAST-MODIFIED:20180908T124430Z
UID:982-1541239200-1541350800@www.appliedshamanism.org
SUMMARY:Soul Retrieval & the Guiding of Souls
DESCRIPTION:Learn how to recognize\, and resolve soul loss and how to guide souls in the Middle World. \nRegistration and additional information via sacredstream.org.
URL:https://www.appliedshamanism.org/event/soul-retrieval-the-guiding-of-souls-november-2018/
LOCATION:Sacred Stream Center\, 2149 Byron Street\, Berkeley\, CA\, 94702\, United States
ORGANIZER;CN="Sacred%20Stream":MAILTO:info@sacredstream.org
END:VEVENT
END:VCALENDAR