BEGIN:VCALENDAR
VERSION:2.0
PRODID:-//Applied Shamanism - ECPv5.4.0//NONSGML v1.0//EN
CALSCALE:GREGORIAN
METHOD:PUBLISH
X-WR-CALNAME:Applied Shamanism
X-ORIGINAL-URL:https://www.appliedshamanism.org
X-WR-CALDESC:Events for Applied Shamanism
BEGIN:VTIMEZONE
TZID:America/Los_Angeles
BEGIN:DAYLIGHT
TZOFFSETFROM:-0800
TZOFFSETTO:-0700
TZNAME:PDT
DTSTART:20240310T100000
END:DAYLIGHT
BEGIN:STANDARD
TZOFFSETFROM:-0700
TZOFFSETTO:-0800
TZNAME:PST
DTSTART:20241103T090000
END:STANDARD
END:VTIMEZONE
BEGIN:VEVENT
DTSTART;TZID=America/Los_Angeles:20240413T140000
DTEND;TZID=America/Los_Angeles:20240413T183000
DTSTAMP:20260424T025650
CREATED:20240113T220851Z
LAST-MODIFIED:20240113T220851Z
UID:3898-1713016800-1713033000@www.appliedshamanism.org
SUMMARY:Power Retrieval & the Middle World (In Person and Live Stream)
DESCRIPTION:In this workshop students expand their understanding of shamanic practice and strengthen their relationship with guides. This class deepens students’ understanding of balancing power and navigating safely in the Middle World. \nSaturday & Sunday\, April 13 & 14\, 2024\n2:00 pm – 6:30 pm Pacific \nRegistration and additional information via sacredstream.org.
URL:https://www.appliedshamanism.org/event/power-retrieval-the-middle-world-in-person-and-live-stream-april-2024/
LOCATION:Sacred Stream Center\, 2149 Byron Street\, Berkeley\, CA\, 94702\, United States
ORGANIZER;CN="Sacred%20Stream":MAILTO:info@sacredstream.org
END:VEVENT
END:VCALENDAR