BEGIN:VCALENDAR
VERSION:2.0
PRODID:-//Applied Shamanism - ECPv5.4.0//NONSGML v1.0//EN
CALSCALE:GREGORIAN
METHOD:PUBLISH
X-WR-CALNAME:Applied Shamanism
X-ORIGINAL-URL:https://www.appliedshamanism.org
X-WR-CALDESC:Events for Applied Shamanism
BEGIN:VTIMEZONE
TZID:America/Los_Angeles
BEGIN:DAYLIGHT
TZOFFSETFROM:-0800
TZOFFSETTO:-0700
TZNAME:PDT
DTSTART:20250309T100000
END:DAYLIGHT
BEGIN:STANDARD
TZOFFSETFROM:-0700
TZOFFSETTO:-0800
TZNAME:PST
DTSTART:20251102T090000
END:STANDARD
END:VTIMEZONE
BEGIN:VEVENT
DTSTART;TZID=America/Los_Angeles:20250504T090000
DTEND;TZID=America/Los_Angeles:20250504T140000
DTSTAMP:20260424T010459
CREATED:20250212T134318Z
LAST-MODIFIED:20250212T134516Z
UID:4258-1746349200-1746367200@www.appliedshamanism.org
SUMMARY:Next Steps in Soul Retrieval (Live Stream)
DESCRIPTION:In this module\, students hone their ability to interpret journeys and craft questions that will help bring insight. \nSunday\, May 4\, 2025\n9:00 am – 2:00 pm Pacific Time (12:00 pm – 5:00 pm Eastern Time) \nRegistration and additional information via sacredstream.org
URL:https://www.appliedshamanism.org/event/next-steps-in-soul-retrieval-live-stream-may-2025/
LOCATION:Distance Learning\, Connect from anywhere!
ORGANIZER;CN="Sacred%20Stream":MAILTO:info@sacredstream.org
END:VEVENT
END:VCALENDAR