BEGIN:VCALENDAR
VERSION:2.0
PRODID:-//Applied Shamanism - ECPv5.4.0//NONSGML v1.0//EN
CALSCALE:GREGORIAN
METHOD:PUBLISH
X-WR-CALNAME:Applied Shamanism
X-ORIGINAL-URL:https://www.appliedshamanism.org
X-WR-CALDESC:Events for Applied Shamanism
BEGIN:VTIMEZONE
TZID:America/Los_Angeles
BEGIN:DAYLIGHT
TZOFFSETFROM:-0800
TZOFFSETTO:-0700
TZNAME:PDT
DTSTART:20250309T100000
END:DAYLIGHT
BEGIN:STANDARD
TZOFFSETFROM:-0700
TZOFFSETTO:-0800
TZNAME:PST
DTSTART:20251102T090000
END:STANDARD
END:VTIMEZONE
BEGIN:VEVENT
DTSTART;VALUE=DATE:20250620
DTEND;VALUE=DATE:20250628
DTSTAMP:20260422T224803
CREATED:20250212T135137Z
LAST-MODIFIED:20250212T135137Z
UID:4273-1750377600-1751068799@www.appliedshamanism.org
SUMMARY:Exploring the Ancient Wisdom of Hawaii
DESCRIPTION:Join us for this eight-day (seven-night) retreat on the Big Island of Hawaii as we explore the beauty and wisdom of this distinctive land. Our classrooms will range from the crystalline waters of Pu’uhonua o Honaunau\, (The City of Refuge) to the slopes of Kilauea\, the most active volcano on earth. In this workshop\, we will explore important concepts of Huna\, a shamanic tradition of Hawaii. Students will gain insight into the nature of the self and learn about an ancient forgiveness practice called Ho’oponopono. We will focus on self-limiting behaviors and how to address them. We will learn new ways of working with and holding power. We will also gain experience working with the elements in the practice of manifestation and engage innovative methods that will help students enter into a new relationship with the creative power of the earth. This retreat promises to deepen personal wisdom\, enhance our connection to nature\, and offer new ways of understanding ourselves and our experience in the world. \nJune 20 – 27\, 2025 \nRegistration and additional information via sacredstream.org
URL:https://www.appliedshamanism.org/event/exploring-the-ancient-wisdom-of-hawaii-june-2025/
ORGANIZER;CN="Sacred%20Stream":MAILTO:info@sacredstream.org
END:VEVENT
END:VCALENDAR