BEGIN:VCALENDAR
VERSION:2.0
PRODID:-//Applied Shamanism - ECPv5.4.0//NONSGML v1.0//EN
CALSCALE:GREGORIAN
METHOD:PUBLISH
X-WR-CALNAME:Applied Shamanism
X-ORIGINAL-URL:https://www.appliedshamanism.org
X-WR-CALDESC:Events for Applied Shamanism
BEGIN:VTIMEZONE
TZID:America/Los_Angeles
BEGIN:DAYLIGHT
TZOFFSETFROM:-0800
TZOFFSETTO:-0700
TZNAME:PDT
DTSTART:20250309T100000
END:DAYLIGHT
BEGIN:STANDARD
TZOFFSETFROM:-0700
TZOFFSETTO:-0800
TZNAME:PST
DTSTART:20251102T090000
END:STANDARD
END:VTIMEZONE
BEGIN:VEVENT
DTSTART;TZID=America/Los_Angeles:20250730T170000
DTEND;TZID=America/Los_Angeles:20250730T183000
DTSTAMP:20260422T201526
CREATED:20250212T135619Z
LAST-MODIFIED:20250212T135619Z
UID:4279-1753894800-1753900200@www.appliedshamanism.org
SUMMARY:Depth Hypnosis Supervisory (Live Stream)
DESCRIPTION:This workshop offers an opportunity for students to present client cases and ask questions about the finer points of Depth Hypnosis practice. This format allows students to learn from the issues coming up in other people’s practices while receiving personalized attention regarding their own questions. Students can also ask for tips to help in the management of their practices. Applied Shamanic Practitioners may also bring case studies and ask questions about their client cases. \nWednesday\, July 30\, 2025\n5:00 pm – 6:30 pm Pacific (8:00 pm – 9:30 pm Eastern) \nRegistration and additional information via sacredstream.org
URL:https://www.appliedshamanism.org/event/depth-hypnosis-supervisory-live-stream-july-2025/
LOCATION:Live Stream
ORGANIZER;CN="Sacred%20Stream":MAILTO:info@sacredstream.org
END:VEVENT
END:VCALENDAR