BEGIN:VCALENDAR
VERSION:2.0
PRODID:-//Applied Shamanism - ECPv5.4.0//NONSGML v1.0//EN
CALSCALE:GREGORIAN
METHOD:PUBLISH
X-WR-CALNAME:Applied Shamanism
X-ORIGINAL-URL:https://www.appliedshamanism.org
X-WR-CALDESC:Events for Applied Shamanism
BEGIN:VTIMEZONE
TZID:UTC
BEGIN:STANDARD
TZOFFSETFROM:+0000
TZOFFSETTO:+0000
TZNAME:UTC
DTSTART:20180101T000000
END:STANDARD
END:VTIMEZONE
BEGIN:VEVENT
DTSTART;TZID=UTC:20181014T170000
DTEND;TZID=UTC:20181014T180000
DTSTAMP:20260425T205825
CREATED:20180711T055713Z
LAST-MODIFIED:20180908T122603Z
UID:897-1539536400-1539540000@www.appliedshamanism.org
SUMMARY:Advanced Circle for the Earth (Video Conference Available)
DESCRIPTION:Advanced students meet quarterly to focus healing on natural places that have been polluted\, contaminated or are experiencing the effects of climate change. \nRegistration and additional information via sacredstream.org.
URL:https://www.appliedshamanism.org/event/advanced-circle-for-the-earth-october-2018/
LOCATION:Sacred Stream Center\, 2149 Byron Street\, Berkeley\, CA\, 94702\, United States
ORGANIZER;CN="Sacred%20Stream":MAILTO:info@sacredstream.org
END:VEVENT
END:VCALENDAR